Workbook

Sheet 1.コントリビュータ情報・メリット案内先
B1: スポンサーメリット案内先
B3: 会社名
B5: 個人情報の取り扱いについて
B6: 個人情報の取り扱いの詳細はシート下部をご覧ください。
B8: コントリビュータリーダー（1名）
B9: 部署名
B10: 名前（姓）
B11: 名前（名）
B12: 名前（姓よみがな）
B13: 名前（名よみがな）
B14: E-mail
B15: 電話番号（例:123-4567-8901）
... B36: メールアドレスは、メーリングリストに登録させていただきます。

Sheet 2.提供機器
B1: 提供機器一覧
E2: ↓不要な場合のみ記入 | F2: ↓数字だけ入れてください | H2: ↓自動計算されます
B3: ご提供機器名（および型番） | C3: 製品分野番号 | D3: 物理/非物理 | E3: 事務局機材保険適用 | F3: 台数 | G3: 希望小売価格(税抜） | H3: 合計（税抜） | I3: 備考 | K3: 製品分野番号 | L3: 物理/非物理 | M3: 事務局機材保険
A4: 1 | H4: =F4*G4 -> 0 | K4: 1.スイッチ | L4: 1.物理
A5: 2 | H5: =F5*G5 -> 0 | K5: 2.ルーター | L5: 2.非物理 | M5: 不要
A6: 3 | H6: =F6*G6 -> 0 | K6: 3.伝送装置 | L6: 3.消耗品
A7: 4 | H7: =F7*G7 -> 0 | K7: 4.アプライアンス
A8: 5 | H8: =F8*G8 -> 0 | K8: 5.無線LAN
A9: 6 | H9: =F9*G9 -> 0 | K9: 6.回線・IX接続・ISP接続
A10: 7 | H10: =F10*G10 -> 0 | K10: 7.セキュリティ対策
A11: 8 | H11: =F11*G11 -> 0 | K11: 8.認証
A12: 9 | H12: =F12*G12 -> 0 | K12: 9.ネットワークマネジメント
A13: 10 | H13: =F13*G13 -> 0 | K13: 10.ケーブリング
A14: 11 | H14: =F14*G14 -> 0 | K14: 11.ラック・空調
A15: 12 | H15: =F15*G15 -> 0 | K15: 12.テスター・アナライザー
A16: 13 | H16: =F16*G16 -> 0 | K16: 13.電源関連
A17: 14 | H17: =F17*G17 -> 0 | K17: 14.コンピュータ・サーバ
A18: 15 | H18: =F18*G18 -> 0 | K18: 15.オペレーティングシステム
... A23: 20 | H23: =F23*G23 -> 0 | K23: 20.その他
A24: 21 | H24: =F24*G24 -> 0
A25: 22 | H25: =F25*G25 -> 0
A26: 23 | H26: =F26*G26 -> 0
A27: 24 | H27: =F27*G27 -> 0
A28: 25 | H28: =F28*G28 -> 0
A29: 26 | H29: =F29*G29 -> 0
A30: 27 | H30: =F30*G30 -> 0
A31: 28 | H31: =F31*G31 -> 0
A32: 29 | H32: =F32*G32 -> 0
A33: 30 | H33: =F33*G33 -> 0

Sheet 3.コントリビュータスペシャリスト登録
B1: コントリビュータスペシャリスト登録
B2: 所属（会社名） | C2: 所属（部署） | D2: 名前（姓） | E2: 名前（名） | F2: 名前（姓よみがな） | G2: 名前（名よみがな） | H2: 個人メールアドレス | I2: 電話番号（携帯電話推奨） | J2: ML
A3: リーダ | B3: ='1.コントリビュータ情報・メリット案内先'!C3 -> 0 | C3: ='1.コントリビュータ情報・メリット案内先'!C9 -> 0 | D3: ='1.コントリビュータ情報・メリット案内先'!C10 -> 0 | E3: ='1.コントリビュータ情報・メリット案内先'!C11 -> 0 | F3: ='1.コントリビュータ情報・メリット案内先'!C12 -> 0 | G3: ='1.コントリビュータ情報・メリット案内先'!C13 -> 0 | H3: ='1.コントリビュータ情報・メリット案内先'!C14 -> 0 | I3: ='1.コントリビュータ情報・メリット案内先'!C15 -> 0
D25: メールアドレスは、メーリングリストに登録させていただきます。
D26: 携帯電話番号をご記入いただくことを推奨いたします。事務局から、会期中の連絡用に使用させていただきます。
